BEGIN:VCALENDAR
VERSION:2.0
PRODID:-//Quenington Parish Council//Meeting Calendar//EN
CALSCALE:GREGORIAN
METHOD:PUBLISH
BEGIN:VEVENT
UID:70629-20240411@queningtonparishcouncil.gov.uk
DTSTAMP:20260419T185745Z
DTSTART;VALUE=DATE:20240411
DTEND;VALUE=DATE:20240412
SUMMARY:Annual Parish Meeting &#8211\\; 11 April 2024
DESCRIPTION:Annual Parish Meeting\nView details: https://queningtonparishcouncil.gov.uk/meetings/annual-parish-meeting-11-april-2024/
URL:https://queningtonparishcouncil.gov.uk/meetings/annual-parish-meeting-11-april-2024/
END:VEVENT
END:VCALENDAR
