BEGIN:VCALENDAR
VERSION:2.0
PRODID:-//Quenington Parish Council//Meeting Calendar//EN
CALSCALE:GREGORIAN
METHOD:PUBLISH
BEGIN:VEVENT
UID:70632-20230413@queningtonparishcouncil.gov.uk
DTSTAMP:20260419T215857Z
DTSTART;VALUE=DATE:20230413
DTEND;VALUE=DATE:20230414
SUMMARY:Annual Parish Meeting &#8211\\; 13 April 2023
DESCRIPTION:Annual Parish Meeting\nView details: https://queningtonparishcouncil.gov.uk/meetings/annual-parish-meeting-13-april-2023/
URL:https://queningtonparishcouncil.gov.uk/meetings/annual-parish-meeting-13-april-2023/
END:VEVENT
END:VCALENDAR
