BEGIN:VCALENDAR
VERSION:2.0
PRODID:-//Quenington Parish Council//Meeting Calendar//EN
CALSCALE:GREGORIAN
METHOD:PUBLISH
BEGIN:VEVENT
UID:70635-20220406@queningtonparishcouncil.gov.uk
DTSTAMP:20260420T003323Z
DTSTART;VALUE=DATE:20220406
DTEND;VALUE=DATE:20220407
SUMMARY:Annual Parish Meeting &#8211\\; 6 April 2022
DESCRIPTION:Annual Parish Meeting\nView details: https://queningtonparishcouncil.gov.uk/meetings/annual-parish-meeting-6-april-2022/
URL:https://queningtonparishcouncil.gov.uk/meetings/annual-parish-meeting-6-april-2022/
END:VEVENT
END:VCALENDAR
