BEGIN:VCALENDAR
VERSION:2.0
PRODID:-//Quenington Parish Council//Meeting Calendar//EN
CALSCALE:GREGORIAN
METHOD:PUBLISH
BEGIN:VEVENT
UID:70639-20230511@queningtonparishcouncil.gov.uk
DTSTAMP:20260419T202821Z
DTSTART;VALUE=DATE:20230511
DTEND;VALUE=DATE:20230512
SUMMARY:Annual General Meeting &#8211\\; 11 May 2023
DESCRIPTION:Annual Parish Meeting\nView details: https://queningtonparishcouncil.gov.uk/meetings/annual-general-meeting-11-may-2023/
URL:https://queningtonparishcouncil.gov.uk/meetings/annual-general-meeting-11-may-2023/
END:VEVENT
END:VCALENDAR
