BEGIN:VCALENDAR
VERSION:2.0
PRODID:-//Quenington Parish Council//Meeting Calendar//EN
CALSCALE:GREGORIAN
METHOD:PUBLISH
BEGIN:VEVENT
UID:70641-20250109@queningtonparishcouncil.gov.uk
DTSTAMP:20260423T102247Z
DTSTART;VALUE=DATE:20250109
DTEND;VALUE=DATE:20250110
SUMMARY:Council Meeting &#8211\\; 9 January 2025
DESCRIPTION:Full Council Meeting\nView details: https://queningtonparishcouncil.gov.uk/meetings/council-meeting-9-january-2025/
URL:https://queningtonparishcouncil.gov.uk/meetings/council-meeting-9-january-2025/
END:VEVENT
END:VCALENDAR
