BEGIN:VCALENDAR
VERSION:2.0
PRODID:-//Quenington Parish Council//Meeting Calendar//EN
CALSCALE:GREGORIAN
METHOD:PUBLISH
BEGIN:VEVENT
UID:70650-20250410@queningtonparishcouncil.gov.uk
DTSTAMP:20260423T115809Z
DTSTART;VALUE=DATE:20250410
DTEND;VALUE=DATE:20250411
SUMMARY:Council Meeting &#8211\\; 10 April 2025
DESCRIPTION:Full Council Meeting\nView details: https://queningtonparishcouncil.gov.uk/meetings/council-meeting-10-april-2025/
URL:https://queningtonparishcouncil.gov.uk/meetings/council-meeting-10-april-2025/
END:VEVENT
END:VCALENDAR
