BEGIN:VCALENDAR
VERSION:2.0
PRODID:-//Quenington Parish Council//Meeting Calendar//EN
CALSCALE:GREGORIAN
METHOD:PUBLISH
BEGIN:VEVENT
UID:70657-20250508@queningtonparishcouncil.gov.uk
DTSTAMP:20260419T152657Z
DTSTART;VALUE=DATE:20250508
DTEND;VALUE=DATE:20250509
SUMMARY:Annual General Meeting &#8211\\; 8 May 2025
DESCRIPTION:Annual Parish Meeting\nView details: https://queningtonparishcouncil.gov.uk/meetings/annual-general-meeting-8-may-2025/
URL:https://queningtonparishcouncil.gov.uk/meetings/annual-general-meeting-8-may-2025/
END:VEVENT
END:VCALENDAR
