BEGIN:VCALENDAR
VERSION:2.0
PRODID:-//Quenington Parish Council//Meeting Calendar//EN
CALSCALE:GREGORIAN
METHOD:PUBLISH
BEGIN:VEVENT
UID:70681-20250515@queningtonparishcouncil.gov.uk
DTSTAMP:20260421T083508Z
DTSTART;VALUE=DATE:20250515
DTEND;VALUE=DATE:20250516
SUMMARY:Annual Parish Meeting &#8211\\; 15 May 2025
DESCRIPTION:Annual Parish Meeting\nView details: https://queningtonparishcouncil.gov.uk/meetings/annual-parish-meeting-15-may-2025-2/
URL:https://queningtonparishcouncil.gov.uk/meetings/annual-parish-meeting-15-may-2025-2/
END:VEVENT
END:VCALENDAR
