BEGIN:VCALENDAR
VERSION:2.0
PRODID:-//Quenington Parish Council//Meeting Calendar//EN
CALSCALE:GREGORIAN
METHOD:PUBLISH
BEGIN:VEVENT
UID:70684-20250612@queningtonparishcouncil.gov.uk
DTSTAMP:20260423T102247Z
DTSTART;VALUE=DATE:20250612
DTEND;VALUE=DATE:20250613
SUMMARY:Council Meeting &#8211\\; 12 June 2025
DESCRIPTION:Full Council Meeting\nView details: https://queningtonparishcouncil.gov.uk/meetings/council-meeting-12-june-2025/
URL:https://queningtonparishcouncil.gov.uk/meetings/council-meeting-12-june-2025/
END:VEVENT
END:VCALENDAR
