BEGIN:VCALENDAR
VERSION:2.0
PRODID:-//Quenington Parish Council//Meeting Calendar//EN
CALSCALE:GREGORIAN
METHOD:PUBLISH
BEGIN:VEVENT
UID:70694-20250814@queningtonparishcouncil.gov.uk
DTSTAMP:20260423T101949Z
DTSTART;VALUE=DATE:20250814
DTEND;VALUE=DATE:20250815
SUMMARY:Council Meeting &#8211\\; 14 August 2025
DESCRIPTION:Full Council Meeting\nView details: https://queningtonparishcouncil.gov.uk/meetings/council-meeting-14-august-2025/
URL:https://queningtonparishcouncil.gov.uk/meetings/council-meeting-14-august-2025/
END:VEVENT
END:VCALENDAR
