BEGIN:VCALENDAR
VERSION:2.0
PRODID:-//Quenington Parish Council//Meeting Calendar//EN
CALSCALE:GREGORIAN
METHOD:PUBLISH
BEGIN:VEVENT
UID:70701-20251113@queningtonparishcouncil.gov.uk
DTSTAMP:20260423T091107Z
DTSTART;VALUE=DATE:20251113
DTEND;VALUE=DATE:20251114
SUMMARY:Council meeting &#8211\\; 13 November 2025
DESCRIPTION:Full Council Meeting\nView details: https://queningtonparishcouncil.gov.uk/meetings/council-meeting-13-november-2025/
URL:https://queningtonparishcouncil.gov.uk/meetings/council-meeting-13-november-2025/
END:VEVENT
END:VCALENDAR
