BEGIN:VCALENDAR
VERSION:2.0
PRODID:-//Quenington Parish Council//Meeting Calendar//EN
CALSCALE:GREGORIAN
METHOD:PUBLISH
BEGIN:VEVENT
UID:70702-20251211@queningtonparishcouncil.gov.uk
DTSTAMP:20260423T084748Z
DTSTART;VALUE=DATE:20251211
DTEND;VALUE=DATE:20251212
SUMMARY:Council meeting &#8211\\; 11 December 2025
DESCRIPTION:Full Council Meeting\nView details: https://queningtonparishcouncil.gov.uk/meetings/council-meeting-11-december-2025/
URL:https://queningtonparishcouncil.gov.uk/meetings/council-meeting-11-december-2025/
END:VEVENT
END:VCALENDAR
