BEGIN:VCALENDAR
VERSION:2.0
PRODID:-//Quenington Parish Council//Meeting Calendar//EN
CALSCALE:GREGORIAN
METHOD:PUBLISH
BEGIN:VEVENT
UID:70884-20261008@queningtonparishcouncil.gov.uk
DTSTAMP:20260423T114537Z
DTSTART;VALUE=DATE:20261008
DTEND;VALUE=DATE:20261009
SUMMARY:Council meeting &#8211\\; 8th October 2026
DESCRIPTION:Full Council Meeting\nView details: https://queningtonparishcouncil.gov.uk/meetings/council-meeting-8th-october-2026/
URL:https://queningtonparishcouncil.gov.uk/meetings/council-meeting-8th-october-2026/
END:VEVENT
END:VCALENDAR
