BEGIN:VCALENDAR
VERSION:2.0
PRODID:-//Quenington Parish Council//Meeting Calendar//EN
CALSCALE:GREGORIAN
METHOD:PUBLISH
BEGIN:VEVENT
UID:70886-20261210@queningtonparishcouncil.gov.uk
DTSTAMP:20260423T090544Z
DTSTART;VALUE=DATE:20261210
DTEND;VALUE=DATE:20261211
SUMMARY:Council meeting &#8211\\; 10th December 2026
DESCRIPTION:Full Council Meeting\nView details: https://queningtonparishcouncil.gov.uk/meetings/council-meeting-10th-december-2026/
URL:https://queningtonparishcouncil.gov.uk/meetings/council-meeting-10th-december-2026/
END:VEVENT
END:VCALENDAR
