BEGIN:VCALENDAR
VERSION:2.0
PRODID:-//Quenington Parish Council//Meeting Calendar//EN
CALSCALE:GREGORIAN
METHOD:PUBLISH
BEGIN:VEVENT
UID:70887-20270114@queningtonparishcouncil.gov.uk
DTSTAMP:20260423T084814Z
DTSTART;VALUE=DATE:20270114
DTEND;VALUE=DATE:20270115
SUMMARY:Council meeting &#8211\\; 14th January 2027
DESCRIPTION:Full Council Meeting\nView details: https://queningtonparishcouncil.gov.uk/meetings/council-meeting-14th-january-2027/
URL:https://queningtonparishcouncil.gov.uk/meetings/council-meeting-14th-january-2027/
END:VEVENT
END:VCALENDAR
