BEGIN:VCALENDAR
VERSION:2.0
PRODID:-//Quenington Parish Council//Meeting Calendar//EN
CALSCALE:GREGORIAN
METHOD:PUBLISH
BEGIN:VEVENT
UID:70888-20270211@queningtonparishcouncil.gov.uk
DTSTAMP:20260423T085811Z
DTSTART;VALUE=DATE:20270211
DTEND;VALUE=DATE:20270212
SUMMARY:Council meeting &#8211\\; 11th February 2027
DESCRIPTION:Full Council Meeting\nView details: https://queningtonparishcouncil.gov.uk/meetings/council-meeting-11th-february-2027/
URL:https://queningtonparishcouncil.gov.uk/meetings/council-meeting-11th-february-2027/
END:VEVENT
END:VCALENDAR
