BEGIN:VCALENDAR
VERSION:2.0
PRODID:-//Quenington Parish Council//Meeting Calendar//EN
CALSCALE:GREGORIAN
METHOD:PUBLISH
BEGIN:VEVENT
UID:70889-20270311@queningtonparishcouncil.gov.uk
DTSTAMP:20260423T104730Z
DTSTART;VALUE=DATE:20270311
DTEND;VALUE=DATE:20270312
SUMMARY:Council meeting &#8211\\; 11th March 2027
DESCRIPTION:Full Council Meeting\nView details: https://queningtonparishcouncil.gov.uk/meetings/council-meeting-11th-march-2027/
URL:https://queningtonparishcouncil.gov.uk/meetings/council-meeting-11th-march-2027/
END:VEVENT
END:VCALENDAR
