BEGIN:VCALENDAR
VERSION:2.0
PRODID:-//Quenington Parish Council//Meeting Calendar//EN
CALSCALE:GREGORIAN
METHOD:PUBLISH
BEGIN:VEVENT
UID:70890-20270408@queningtonparishcouncil.gov.uk
DTSTAMP:20260421T080814Z
DTSTART;VALUE=DATE:20270408
DTEND;VALUE=DATE:20270409
SUMMARY:Council meeting &#8211\\; 8th April 2027
DESCRIPTION:Full Council Meeting\nView details: https://queningtonparishcouncil.gov.uk/meetings/council-meeting-8th-april-2027/
URL:https://queningtonparishcouncil.gov.uk/meetings/council-meeting-8th-april-2027/
END:VEVENT
END:VCALENDAR
