BEGIN:VCALENDAR
VERSION:2.0
PRODID:-//Quenington Parish Council//Meeting Calendar//EN
CALSCALE:GREGORIAN
METHOD:PUBLISH
BEGIN:VEVENT
UID:70891-20270513@queningtonparishcouncil.gov.uk
DTSTAMP:20260421T080856Z
DTSTART;VALUE=DATE:20270513
DTEND;VALUE=DATE:20270514
SUMMARY:Annual Meeting of the Parish Council
DESCRIPTION:Full Council Meeting\nView details: https://queningtonparishcouncil.gov.uk/meetings/annual-meeting-of-the-parish-council/
URL:https://queningtonparishcouncil.gov.uk/meetings/annual-meeting-of-the-parish-council/
END:VEVENT
END:VCALENDAR
