BEGIN:VCALENDAR
VERSION:2.0
PRODID:-//Quenington Parish Council//Meeting Calendar//EN
CALSCALE:GREGORIAN
METHOD:PUBLISH
BEGIN:VEVENT
UID:70892-20270513@queningtonparishcouncil.gov.uk
DTSTAMP:20260421T082836Z
DTSTART;VALUE=DATE:20270513
DTEND;VALUE=DATE:20270514
SUMMARY:Council meeting &#8211\\; 13th May 2027
DESCRIPTION:Full Council Meeting\nView details: https://queningtonparishcouncil.gov.uk/meetings/council-meeting-13th-may-2027/
URL:https://queningtonparishcouncil.gov.uk/meetings/council-meeting-13th-may-2027/
END:VEVENT
END:VCALENDAR
