BEGIN:VCALENDAR
VERSION:2.0
PRODID:-//Quenington Parish Council//Meeting Calendar//EN
CALSCALE:GREGORIAN
METHOD:PUBLISH
BEGIN:VEVENT
UID:70893-20270520@queningtonparishcouncil.gov.uk
DTSTAMP:20260421T080814Z
DTSTART;VALUE=DATE:20270520
DTEND;VALUE=DATE:20270521
SUMMARY:Annual Parish Meeting &#8211\\; 20th May 2027
DESCRIPTION:Annual Parish Meeting\nView details: https://queningtonparishcouncil.gov.uk/meetings/annual-parish-meeting-20th-may-2027/
URL:https://queningtonparishcouncil.gov.uk/meetings/annual-parish-meeting-20th-may-2027/
END:VEVENT
END:VCALENDAR
