BEGIN:VCALENDAR
VERSION:2.0
PRODID:-//Quenington Parish Council//Meeting Calendar//EN
CALSCALE:GREGORIAN
METHOD:PUBLISH
BEGIN:VEVENT
UID:70894-20270708@queningtonparishcouncil.gov.uk
DTSTAMP:20260421T080856Z
DTSTART;VALUE=DATE:20270708
DTEND;VALUE=DATE:20270709
SUMMARY:Council meeting &#8211\\; 8th July 2027
DESCRIPTION:Full Council Meeting\nView details: https://queningtonparishcouncil.gov.uk/meetings/council-meeting-8th-july-2027/
URL:https://queningtonparishcouncil.gov.uk/meetings/council-meeting-8th-july-2027/
END:VEVENT
END:VCALENDAR
