BEGIN:VCALENDAR
VERSION:2.0
PRODID:-//Quenington Parish Council//Meeting Calendar//EN
CALSCALE:GREGORIAN
METHOD:PUBLISH
BEGIN:VEVENT
UID:70895-20270812@queningtonparishcouncil.gov.uk
DTSTAMP:20260423T084741Z
DTSTART;VALUE=DATE:20270812
DTEND;VALUE=DATE:20270813
SUMMARY:Council meeting &#8211\\; 12th August 2027
DESCRIPTION:Full Council Meeting\nView details: https://queningtonparishcouncil.gov.uk/meetings/council-meeting-12th-august-2027/
URL:https://queningtonparishcouncil.gov.uk/meetings/council-meeting-12th-august-2027/
END:VEVENT
END:VCALENDAR
